BEGIN:VCALENDAR
VERSION:2.0
PRODID:-//Colegio Sagrado Corazón de Jesús - ECPv6.15.20//NONSGML v1.0//EN
CALSCALE:GREGORIAN
METHOD:PUBLISH
X-ORIGINAL-URL:https://cosacor.cl
X-WR-CALDESC:Eventos para Colegio Sagrado Corazón de Jesús
REFRESH-INTERVAL;VALUE=DURATION:PT1H
X-Robots-Tag:noindex
X-PUBLISHED-TTL:PT1H
BEGIN:VTIMEZONE
TZID:America/Santiago
BEGIN:STANDARD
TZOFFSETFROM:-0300
TZOFFSETTO:-0400
TZNAME:-04
DTSTART:20240407T030000
END:STANDARD
BEGIN:DAYLIGHT
TZOFFSETFROM:-0400
TZOFFSETTO:-0300
TZNAME:-03
DTSTART:20240908T040000
END:DAYLIGHT
BEGIN:STANDARD
TZOFFSETFROM:-0300
TZOFFSETTO:-0400
TZNAME:-04
DTSTART:20250406T030000
END:STANDARD
BEGIN:DAYLIGHT
TZOFFSETFROM:-0400
TZOFFSETTO:-0300
TZNAME:-03
DTSTART:20250907T040000
END:DAYLIGHT
BEGIN:STANDARD
TZOFFSETFROM:-0300
TZOFFSETTO:-0400
TZNAME:-04
DTSTART:20260405T030000
END:STANDARD
BEGIN:DAYLIGHT
TZOFFSETFROM:-0400
TZOFFSETTO:-0300
TZNAME:-03
DTSTART:20260906T040000
END:DAYLIGHT
END:VTIMEZONE
BEGIN:VEVENT
DTSTART;VALUE=DATE:20250423
DTEND;VALUE=DATE:20250424
DTSTAMP:20260419T082017
CREATED:20250721T170549Z
LAST-MODIFIED:20250721T170616Z
UID:1087-1745366400-1745452799@cosacor.cl
SUMMARY:Día del Libro
DESCRIPTION:El colegio celebrará esta fecha con actividades de fomento lector y promoción de la literatura.
URL:https://cosacor.cl/calendario-escolar/dia-del-libro/
END:VEVENT
BEGIN:VEVENT
DTSTART;VALUE=DATE:20250422
DTEND;VALUE=DATE:20250423
DTSTAMP:20260419T082017
CREATED:20250721T170138Z
LAST-MODIFIED:20250721T170138Z
UID:1081-1745280000-1745366399@cosacor.cl
SUMMARY:Día de la Tierra
DESCRIPTION:Se desarrollarán actividades de sensibilización ambiental\, promoviendo el cuidado de la creación.
URL:https://cosacor.cl/calendario-escolar/dia-de-la-tierra/
END:VEVENT
BEGIN:VEVENT
DTSTART;VALUE=DATE:20250422
DTEND;VALUE=DATE:20250423
DTSTAMP:20260419T082017
CREATED:20250721T170228Z
LAST-MODIFIED:20250721T170228Z
UID:1083-1745280000-1745366399@cosacor.cl
SUMMARY:Jornada de Formación de Líderes – Enseñanza Básica
DESCRIPTION:Los estudiantes líderes de enseñanza básica participarán en una jornada orientada al desarrollo del liderazgo y el trabajo en equipo.
URL:https://cosacor.cl/calendario-escolar/jornada-de-formacion-de-lideres-ensenanza-basica/
END:VEVENT
BEGIN:VEVENT
DTSTART;VALUE=DATE:20250421
DTEND;VALUE=DATE:20250422
DTSTAMP:20260419T082017
CREATED:20250721T170031Z
LAST-MODIFIED:20250721T170031Z
UID:1079-1745193600-1745279999@cosacor.cl
SUMMARY:Lunes de Resurrección
DESCRIPTION:La comunidad escolar conmemorará la Pascua de Resurrección con diversas actividades litúrgicas y formativas.
URL:https://cosacor.cl/calendario-escolar/lunes-de-resurreccion/
END:VEVENT
BEGIN:VEVENT
DTSTART;TZID=America/Santiago:20250417T120000
DTEND;TZID=America/Santiago:20250417T133000
DTSTAMP:20260419T082017
CREATED:20250721T165928Z
LAST-MODIFIED:20250721T165928Z
UID:1076-1744891200-1744896600@cosacor.cl
SUMMARY:Jueves Santo: Presentación de obra "Jesucristo Superestrella" a Enseñanza Media
DESCRIPTION:Los estudiantes de enseñanza media asistirán a la presentación de fragmentos de la obra «Jesucristo Superestrella»
URL:https://cosacor.cl/calendario-escolar/jueves-santo-presentacion-de-obra-jesucristo-superestrella-a-ensenanza-media/
LOCATION:Gimnasio de Enseñanza Media
END:VEVENT
BEGIN:VEVENT
DTSTART;TZID=America/Santiago:20250417T102000
DTEND;TZID=America/Santiago:20250417T120000
DTSTAMP:20260419T082017
CREATED:20250721T165757Z
LAST-MODIFIED:20250721T165951Z
UID:1074-1744885200-1744891200@cosacor.cl
SUMMARY:Jueves Santo: Presentación de obra "Jesucristo Superestrella" a Enseñanza Básica
DESCRIPTION:Los estudiantes de enseñanza básica asistirán a la presentación de fragmentos de la obra «Jesucristo Superestrella»
URL:https://cosacor.cl/calendario-escolar/jueves-santo-presentacion-de-obra-jesucristo-superestrella-a-ensenanza-basica/
LOCATION:Gimnasio de Enseñanza Media
END:VEVENT
BEGIN:VEVENT
DTSTART;VALUE=DATE:20250416
DTEND;VALUE=DATE:20250417
DTSTAMP:20260419T082017
CREATED:20250721T165630Z
LAST-MODIFIED:20250721T165630Z
UID:1072-1744761600-1744847999@cosacor.cl
SUMMARY:Presentación Obra “Jesucristo Superestrella” a la Comunidad
DESCRIPTION:El colegio presentará la obra musical «Jesucristo Superestrella» en un evento abierto a la comunidad de San Carlos.
URL:https://cosacor.cl/calendario-escolar/presentacion-obra-jesucristo-superestrella-a-la-comunidad/
LOCATION:Gimnasio de Enseñanza Media
END:VEVENT
BEGIN:VEVENT
DTSTART;TZID=America/Santiago:20250415T080000
DTEND;TZID=America/Santiago:20250415T170000
DTSTAMP:20260419T082017
CREATED:20250721T165532Z
LAST-MODIFIED:20250721T165532Z
UID:1070-1744704000-1744736400@cosacor.cl
SUMMARY:Elecciones de Delegados de Curso
DESCRIPTION:Se realizarán las elecciones internas de delegados que representarán a cada curso ante el Centro de Estudiantes.
URL:https://cosacor.cl/calendario-escolar/elecciones-de-delegados-de-curso/
END:VEVENT
BEGIN:VEVENT
DTSTART;VALUE=DATE:20250414
DTEND;VALUE=DATE:20250415
DTSTAMP:20260419T082017
CREATED:20250721T165453Z
LAST-MODIFIED:20250721T165453Z
UID:1068-1744588800-1744675199@cosacor.cl
SUMMARY:Celebración de Domingo de Ramos
DESCRIPTION:El colegio celebrará la entrada de Jesús en Jerusalén con una liturgia especial para enseñanza básica.
URL:https://cosacor.cl/calendario-escolar/celebracion-de-domingo-de-ramos/
END:VEVENT
BEGIN:VEVENT
DTSTART;VALUE=DATE:20250411
DTEND;VALUE=DATE:20250412
DTSTAMP:20260419T082017
CREATED:20250721T165357Z
LAST-MODIFIED:20250721T165357Z
UID:1066-1744329600-1744415999@cosacor.cl
SUMMARY:Elecciones de Centro de Estudiantes
DESCRIPTION:Los estudiantes elegirán democráticamente a los representantes del Centro de Estudiantes (COSACO).
URL:https://cosacor.cl/calendario-escolar/elecciones-de-centro-de-estudiantes/
END:VEVENT
BEGIN:VEVENT
DTSTART;TZID=America/Santiago:20250410T084500
DTEND;TZID=America/Santiago:20250410T123000
DTSTAMP:20260419T082017
CREATED:20250721T165204Z
LAST-MODIFIED:20250721T165204Z
UID:1061-1744274700-1744288200@cosacor.cl
SUMMARY:Encuentro con Cristo – 4° Básico A
DESCRIPTION:El colegio organizará una jornada de formación espiritual para los estudiantes de 4° Básico A.
URL:https://cosacor.cl/calendario-escolar/encuentro-con-cristo-4-basico-a/
END:VEVENT
BEGIN:VEVENT
DTSTART;VALUE=DATE:20250410
DTEND;VALUE=DATE:20250411
DTSTAMP:20260419T082017
CREATED:20250721T165300Z
LAST-MODIFIED:20250721T165300Z
UID:1063-1744243200-1744329599@cosacor.cl
SUMMARY:Día de la Matemática
DESCRIPTION:Se desarrollarán actividades lúdicas y académicas para destacar la importancia de las matemáticas en la vida diaria.
URL:https://cosacor.cl/calendario-escolar/dia-de-la-matematica/
END:VEVENT
BEGIN:VEVENT
DTSTART;TZID=America/Santiago:20250409T084500
DTEND;TZID=America/Santiago:20250409T130000
DTSTAMP:20260419T082017
CREATED:20250721T165110Z
LAST-MODIFIED:20250721T165110Z
UID:1059-1744188300-1744203600@cosacor.cl
SUMMARY:Encuentro con Cristo – 4° Medio A
DESCRIPTION:El curso 4° Medio A participará en una jornada espiritual de reflexión y encuentro personal con Cristo. \n 
URL:https://cosacor.cl/calendario-escolar/encuentro-con-cristo-4-medio-a/
END:VEVENT
BEGIN:VEVENT
DTSTART;VALUE=DATE:20250408
DTEND;VALUE=DATE:20250409
DTSTAMP:20260419T082017
CREATED:20250721T165007Z
LAST-MODIFIED:20250721T165007Z
UID:1057-1744070400-1744156799@cosacor.cl
SUMMARY:Día Mundial de Concienciación sobre el Autismo
DESCRIPTION:El establecimiento visibilizará esta fecha con acciones orientadas a fomentar la inclusión\, el respeto y la empatía.
URL:https://cosacor.cl/calendario-escolar/dia-mundial-de-concienciacion-sobre-el-autismo/
END:VEVENT
BEGIN:VEVENT
DTSTART;VALUE=DATE:20250407
DTEND;VALUE=DATE:20250408
DTSTAMP:20260419T082017
CREATED:20250721T164919Z
LAST-MODIFIED:20250721T164919Z
UID:1055-1743984000-1744070399@cosacor.cl
SUMMARY:Día de la Actividad Física
DESCRIPTION:Se realizarán diversas actividades deportivas y recreativas para promover el movimiento y el bienestar físico de los estudiantes.
URL:https://cosacor.cl/calendario-escolar/dia-de-la-actividad-fisica/
END:VEVENT
BEGIN:VEVENT
DTSTART;VALUE=DATE:20250405
DTEND;VALUE=DATE:20250406
DTSTAMP:20260419T082017
CREATED:20250721T164842Z
LAST-MODIFIED:20250721T164842Z
UID:1052-1743811200-1743897599@cosacor.cl
SUMMARY:Formación de Monitores para Jornada de la Amistad
DESCRIPTION:El colegio llevará a cabo una instancia de formación para los estudiantes que colaborarán como monitores en la Jornada de la Amistad.
URL:https://cosacor.cl/calendario-escolar/formacion-de-monitores-para-jornada-de-la-amistad/
END:VEVENT
BEGIN:VEVENT
DTSTART;VALUE=DATE:20250404
DTEND;VALUE=DATE:20250405
DTSTAMP:20260419T082017
CREATED:20250721T164507Z
LAST-MODIFIED:20250721T164507Z
UID:1050-1743724800-1743811199@cosacor.cl
SUMMARY:Conmemoración del 122° Fundación de la Congregación Hermanas Hospitalarias del Sacratísimo Corazón de Jesús
DESCRIPTION:El colegio celebrará un nuevo aniversario de la Congregación de Hermanas Hospitalarias del Sacratísimo Corazón de Jesús.
URL:https://cosacor.cl/calendario-escolar/conmemoracion-del-122-fundacion-de-la-congregacion-hermanas-hospitalarias-del-sacratisimo-corazon-de-jesus/
END:VEVENT
BEGIN:VEVENT
DTSTART;VALUE=DATE:20250331
DTEND;VALUE=DATE:20250404
DTSTAMP:20260419T082017
CREATED:20250721T164217Z
LAST-MODIFIED:20250721T164232Z
UID:1045-1743379200-1743724799@cosacor.cl
SUMMARY:Reuniones de Apoderados de Enseñanza Media
DESCRIPTION:Durante estos días\, el colegio sostendrá las primeras reuniones informativas con los apoderados de enseñanza media para compartir orientaciones académicas y formativas.
URL:https://cosacor.cl/calendario-escolar/reuniones-de-apoderados-de-ensenanza-media/
END:VEVENT
BEGIN:VEVENT
DTSTART;TZID=America/Santiago:20250327T080000
DTEND;TZID=America/Santiago:20250327T133000
DTSTAMP:20260419T082017
CREATED:20250721T164103Z
LAST-MODIFIED:20250721T164103Z
UID:1043-1743062400-1743082200@cosacor.cl
SUMMARY:Jornada de Formación y Liderazgo Estudiantil
DESCRIPTION:El colegio organizará una jornada formativa con la participación de los representantes de curso\, enfocada en el liderazgo\, la responsabilidad y los valores cristianos.
URL:https://cosacor.cl/calendario-escolar/jornada-de-formacion-y-liderazgo-estudiantil/
END:VEVENT
BEGIN:VEVENT
DTSTART;VALUE=DATE:20250323
DTEND;VALUE=DATE:20250324
DTSTAMP:20260419T082017
CREATED:20250721T163957Z
LAST-MODIFIED:20250721T163957Z
UID:1041-1742688000-1742774399@cosacor.cl
SUMMARY:Misa Comunitaria de Marzo
DESCRIPTION:La comunidad escolar celebrará una misa con motivo del inicio del año académico.
URL:https://cosacor.cl/calendario-escolar/misa-comunitaria-de-marzo/
END:VEVENT
BEGIN:VEVENT
DTSTART;VALUE=DATE:20250314
DTEND;VALUE=DATE:20250315
DTSTAMP:20260419T082017
CREATED:20250721T163742Z
LAST-MODIFIED:20250721T163742Z
UID:1039-1741910400-1741996799@cosacor.cl
SUMMARY:Día contra el Ciberacoso
DESCRIPTION:La institución llevará a cabo acciones formativas para concientizar sobre el ciberbullying y fomentar una convivencia digital respetuosa.
URL:https://cosacor.cl/calendario-escolar/dia-contra-el-ciberacoso/
END:VEVENT
BEGIN:VEVENT
DTSTART;VALUE=DATE:20250308
DTEND;VALUE=DATE:20250309
DTSTAMP:20260419T082017
CREATED:20250721T163653Z
LAST-MODIFIED:20250721T163756Z
UID:1037-1741392000-1741478399@cosacor.cl
SUMMARY:Día Internacional de la Mujer
DESCRIPTION:El colegio conmemorará esta fecha mediante actividades de reflexión y reconocimiento del rol de la mujer en la comunidad educativa.
URL:https://cosacor.cl/calendario-escolar/dia-internacional-de-la-mujer/
END:VEVENT
BEGIN:VEVENT
DTSTART;VALUE=DATE:20250305
DTEND;VALUE=DATE:20250308
DTSTAMP:20260419T082017
CREATED:20250721T161146Z
LAST-MODIFIED:20250721T161146Z
UID:1035-1741132800-1741391999@cosacor.cl
SUMMARY:Inicio Año Escolar 2025
DESCRIPTION:Informamos a nuestra comunidad educativa que las clases comienzan el miércoles 5 de Marzo de 2025. \n? Horarios de ingreso por nivel entre el 5 y 7 de Marzo: \n\n\nPrekínder y Kinder: 8:30 a 12:30 hrs \n\n\n1° básico a 6° básico: 8:30 a 13:30 hrs \n\n7° básico a 4° medio: 8:30 a 13:30 hrs\n\n¡Les deseamos un excelente comienzo de año escolar!
URL:https://cosacor.cl/calendario-escolar/inicio-ano-escolar-2025/
END:VEVENT
BEGIN:VEVENT
DTSTART;VALUE=DATE:20250304
DTEND;VALUE=DATE:20250305
DTSTAMP:20260419T082017
CREATED:20250721T164333Z
LAST-MODIFIED:20250721T164333Z
UID:1048-1741046400-1741132799@cosacor.cl
SUMMARY:Foro de Candidaturas Centro de Estudiantes COSACO
DESCRIPTION:Se realizará el foro debate donde las listas postulantes al Centro de Estudiantes (COSACO) presentarán sus propuestas al alumnado.
URL:https://cosacor.cl/calendario-escolar/foro-de-candidaturas-centro-de-estudiantes-cosaco/
END:VEVENT
END:VCALENDAR